BEGIN:VCALENDAR
VERSION:2.0
PRODID:-//wp-events-plugin.com//7.2.3.1//EN
TZID:Europe/Berlin
X-WR-TIMEZONE:Europe/Berlin
BEGIN:VEVENT
UID:2@auto-gyro.com
DTSTART;TZID=Europe/Berlin;VALUE=DATE:20230825
DTEND;TZID=Europe/Berlin;VALUE=DATE:20230828
DTSTAMP:20241029T145523Z
URL:https://www.auto-gyro.com/events/autogyro-fly-in-2023/
SUMMARY:AutoGyro Fly-In 2023
DESCRIPTION:Join our AutoGyro Fly-In 2023 and celebrate our 20 year product
 ion anniversary.\n\nLet's gather as many AutoGyro gyroplanes as possible!\
 nBut of course any other aircraft types are welcome\, too.\n\nSchedule\nat
  AutoGyro GmbH\, Dornierstr. 14 \, 31137 Hildesheim\, Germany\n\nHinweis: 
 Aufgrund der erwarteten Wetterlage (Gewitter) muss unser Flugschultag am 2
 5. August leider abgesagt werden.\nDie Anreise zum Fly-In ist möglich (in
  der 2. Tageshälfte).\n\n 	26-08 Fly-In from 10 am\n\n 	11.30 am: Offici
 al opening\n(CEOs AutoGyro\, Dr. Ingo Meyer (Lord Major of Hildesheim))\n 
 	Trial Flights\n 	Factory tours\n 	Workshops\n 	Exhibitions\n 	Open House 
 (10 am- 4 pm)\n 	RotorCareer: Start your career at AutoGyro\n 	Kids Progra
 m\n 	Food &amp\; Drinks\n 	7 pm: Sunset Flight\n 	8 pm Music &amp\; Party\
 n\n\n 	27-08 Departure\n\nA camping area incl. sanitation facilities is av
 ailable August 25-27.\n\nThe event is also open to the public as an open d
 ay from 10 am to 4 pm. For day visitors no registration is necessary.\n\nO
 nly pilots and co-pilots arriving with an aircraft have to register throug
 h the following form. AutoGyro pays the airport fees for Fly-In attendees.
 \nPlease note that for reservations after August 16 we cannot guarantee sh
 irts availability for all sizes.\n\nContact: Sonja Seitz marketing@auto-gy
 ro.com\n\n&nbsp\;\n\n&nbsp\;
ATTACH;FMTTYPE=image/jpeg:https://www.auto-gyro.com/wp-content/uploads/202
 3/06/Invitation-FlyIN-2023-Facebook_1200-x-628_final.png
LOCATION:Airport Hildesheim (EDVM)\, Am Flugplatz 26\, Hildesheim\, 31137\,
  Germany
GEO:52.177664;9.951542
X-APPLE-STRUCTURED-LOCATION;VALUE=URI;X-ADDRESS=Am Flugplatz 26\, Hildeshei
 m\, 31137\, Germany;X-APPLE-RADIUS=100;X-TITLE=Airport Hildesheim (EDVM):g
 eo:52.177664,9.951542
END:VEVENT
BEGIN:VTIMEZONE
TZID:Europe/Berlin
X-LIC-LOCATION:Europe/Berlin
BEGIN:DAYLIGHT
DTSTART:20230326T030000
TZOFFSETFROM:+0100
TZOFFSETTO:+0200
TZNAME:CEST
END:DAYLIGHT
END:VTIMEZONE
END:VCALENDAR